BEGIN:VCALENDAR
VERSION:2.0
PRODID:-//wp-events-plugin.com//7.2.3.1//EN
TZID:Europe/Brussels
X-WR-TIMEZONE:Europe/Brussels
BEGIN:VEVENT
UID:216@polyamour.be
DTSTART;TZID=Europe/Brussels:20200127T190000
DTEND;TZID=Europe/Brussels:20200127T230000
DTSTAMP:20200719T164105Z
URL:https://polyamour.be/events/cafe-poly-de-charleroi-2020-01-27/
SUMMARY:Café-poly de Charleroi
DESCRIPTION:Bienvenue au nouveau café-poly de Charleroi !\n\nRendez-vous t
 ous les 4e lundis du mois\, au bar Le Nirvana\, dans une des salles de l'
 étage à partir de 19h.\n\nPour plus d'infos\, contacter : charleroi@poly
 amour.be\n\n&nbsp\;
LOCATION:Le Nirvana Bar\, 38 boulevard de l'Yser\, Charleroi\, 6000\, Belgi
 que
X-APPLE-STRUCTURED-LOCATION;VALUE=URI;X-ADDRESS=38 boulevard de l'Yser\, Ch
 arleroi\, 6000\, Belgique;X-APPLE-RADIUS=100;X-TITLE=Le Nirvana Bar:geo:0,
 0
END:VEVENT
BEGIN:VTIMEZONE
TZID:Europe/Brussels
X-LIC-LOCATION:Europe/Brussels
BEGIN:STANDARD
DTSTART:20191027T020000
TZOFFSETFROM:+0200
TZOFFSETTO:+0100
TZNAME:CET
END:STANDARD
END:VTIMEZONE
END:VCALENDAR