BEGIN:VCALENDAR
VERSION:2.0
PRODID:-//wp-events-plugin.com//7.2.3.1//EN
TZID:Europe/Brussels
X-WR-TIMEZONE:Europe/Brussels
BEGIN:VEVENT
UID:370@polyamour.be
DTSTART;TZID=Europe/Brussels:20230207T190000
DTEND;TZID=Europe/Brussels:20230207T223000
DTSTAMP:20230203T200919Z
URL:https://polyamour.be/events/cafe-poly-de-mons-13/
SUMMARY:Café-poly de Mons
DESCRIPTION:Bonjour à tous\,\n\nLe désormais traditionnel café-poly de M
 ons se tiendra le mardi 7 février 2023 dès 19h à la Maison Arc-en-ciel 
 de Mons.\n\nLes boissons doivent être consommées sur place (prévoyez de
  la monnaie)\, mais vous pouvez apporter votre en-cas\, si vous le souhait
 ez.\n\nPour toutes questions ou inscriptions\, vous pouvez envoyer un mail
  à l'adresse  mons@polyamour.be .\n\nÀ très bientôt et au plaisir de 
 partager un moment avec vous !
LOCATION:Maison Arc-en-Ciel de Mons\, Boulevard John Fitzgerald Kennedy 7\,
  Mons\, 7000\, Belgique
X-APPLE-STRUCTURED-LOCATION;VALUE=URI;X-ADDRESS=Boulevard John Fitzgerald K
 ennedy 7\, Mons\, 7000\, Belgique;X-APPLE-RADIUS=100;X-TITLE=Maison Arc-en
 -Ciel de Mons:geo:0,0
END:VEVENT
BEGIN:VTIMEZONE
TZID:Europe/Brussels
X-LIC-LOCATION:Europe/Brussels
BEGIN:STANDARD
DTSTART:20221030T020000
TZOFFSETFROM:+0200
TZOFFSETTO:+0100
TZNAME:CET
END:STANDARD
END:VTIMEZONE
END:VCALENDAR