BEGIN:VCALENDAR
VERSION:2.0
PRODID:-//wp-events-plugin.com//7.2.3.1//EN
TZID:Europe/Brussels
X-WR-TIMEZONE:Europe/Brussels
BEGIN:VEVENT
UID:366@polyamour.be
DTSTART;TZID=Europe/Brussels:20231015T173000
DTEND;TZID=Europe/Brussels:20231015T203000
DTSTAMP:20230923T205108Z
URL:https://polyamour.be/events/cafe-poly-de-namur-2023-10-15/
SUMMARY:Café-poly de Namur
DESCRIPTION:Les cafés-poly sont de retour dans la capitale wallonne !\n\nC
 hangement de lieu : nous nous retrouvons le 3e dimanche du mois à la mais
 on Arc-en-Ciel de Namur.\n\nCafé-poly en mode apéro du dimanche :\nEspac
 e-temps de partages libres et autogérés de paroles autour du thème qui
   nous rassemble : le polyamour.\n+ Avec la particularité d’1 heure de
  discussions libres (chacun participe comme il le veut\, passivement\, act
 ivement ou autre) autour d’un thème suggéré (avec des questions propo
 sées comme amorce/soutien au partage) pour alimenter la première partie 
 de la rencontre.\n\nPlus d'infos en contactant namur@polyamour.be\n\n&nbsp
 \;\n\n&nbsp\;
LOCATION:Maison Arc-en-Ciel de Namur\,  Rue Eugène Hambursin\, 13\, Namur\
 , 5000\, Belgique
X-APPLE-STRUCTURED-LOCATION;VALUE=URI;X-ADDRESS= Rue Eugène Hambursin\, 13
 \, Namur\, 5000\, Belgique;X-APPLE-RADIUS=100;X-TITLE=Maison Arc-en-Ciel d
 e Namur:geo:0,0
END:VEVENT
BEGIN:VTIMEZONE
TZID:Europe/Brussels
X-LIC-LOCATION:Europe/Brussels
BEGIN:DAYLIGHT
DTSTART:20230326T030000
TZOFFSETFROM:+0100
TZOFFSETTO:+0200
TZNAME:CEST
END:DAYLIGHT
END:VTIMEZONE
END:VCALENDAR