BEGIN:VCALENDAR
VERSION:2.0
PRODID:-//wp-events-plugin.com//7.2.3.1//EN
TZID:Europe/Brussels
X-WR-TIMEZONE:Europe/Brussels
BEGIN:VEVENT
UID:230@polyamour.be
DTSTART;TZID=Europe/Brussels:20200212T190000
DTEND;TZID=Europe/Brussels:20200212T230000
DTSTAMP:20200719T164238Z
URL:https://polyamour.be/events/cafe-poly-liege-2020-02-12/
SUMMARY:Café-poly de Liège
DESCRIPTION:Soyez les bienvenus au café-poly liégeois.\n\nFormule papote 
 libre\, restauration et boissons sur place.\nDemandez au bar en arrivant o
 ù sont les polys !\n\nPlus d'infos en contactant : liege@polyamour.be\n\n
 &nbsp\;
LOCATION:Taverne Tchantchès et Nanesse\, 35 rue Grande-Bêche\, Liège\, 4
 020\, Belgique
X-APPLE-STRUCTURED-LOCATION;VALUE=URI;X-ADDRESS=35 rue Grande-Bêche\, Liè
 ge\, 4020\, Belgique;X-APPLE-RADIUS=100;X-TITLE=Taverne Tchantchès et Nan
 esse:geo:0,0
END:VEVENT
BEGIN:VTIMEZONE
TZID:Europe/Brussels
X-LIC-LOCATION:Europe/Brussels
BEGIN:STANDARD
DTSTART:20191027T020000
TZOFFSETFROM:+0200
TZOFFSETTO:+0100
TZNAME:CET
END:STANDARD
END:VTIMEZONE
END:VCALENDAR