BEGIN:VCALENDAR
VERSION:2.0
PRODID:-//wp-events-plugin.com//7.2.3.1//EN
TZID:Europe/Brussels
X-WR-TIMEZONE:Europe/Brussels
BEGIN:VEVENT
UID:207@polyamour.be
DTSTART;TZID=Europe/Brussels:20200413T193000
DTEND;TZID=Europe/Brussels:20200413T223000
DTSTAMP:20200719T170824Z
URL:https://polyamour.be/events/cafe-poly-namur-2020-04-13/
SUMMARY:Café-poly de Namur (annulé)
DESCRIPTION:Bienvenue à tous au Café-poly de Namur tous les 2e lundis du 
 mois à partir de 19h30.\nNous aurons une salle réservée pour nous ! et 
 pas d'organisation particulière... Ce café poly sera comme celui de Brux
 elles\, c'est-à-dire échanges libres... consommation au bar.\nVous pouve
 z apporter quelque chose à manger.\n\nLieu et barman accueillants malgré
  une ambiance (du lieu) plutôt sombre et donc parfois "rebutante"... n'y 
 prenez pas garde ! "l'habit ne fait pas le moine" :'))\n\nPour plus d'info
 s\, contacter : namur@polyamour.be
LOCATION:Le Caprice d'Ambiance\, 13 rue Général Michel\, Namur\, 5000\, B
 elgique
X-APPLE-STRUCTURED-LOCATION;VALUE=URI;X-ADDRESS=13 rue Général Michel\, N
 amur\, 5000\, Belgique;X-APPLE-RADIUS=100;X-TITLE=Le Caprice d'Ambiance:ge
 o:0,0
END:VEVENT
BEGIN:VTIMEZONE
TZID:Europe/Brussels
X-LIC-LOCATION:Europe/Brussels
BEGIN:DAYLIGHT
DTSTART:20200329T030000
TZOFFSETFROM:+0100
TZOFFSETTO:+0200
TZNAME:CEST
END:DAYLIGHT
END:VTIMEZONE
END:VCALENDAR