BEGIN:VCALENDAR
VERSION:2.0
PRODID:-//wp-events-plugin.com//7.2.3.1//EN
TZID:Europe/Brussels
X-WR-TIMEZONE:Europe/Brussels
BEGIN:VEVENT
UID:213@polyamour.be
DTSTART;TZID=Europe/Brussels:20201012T193000
DTEND;TZID=Europe/Brussels:20201012T223000
DTSTAMP:20201008T214417Z
URL:https://polyamour.be/events/cafe-poly-namur-2020-10-12/
SUMMARY:Café-poly de Namur (annulé)
DESCRIPTION:Hello à tous \,\n\nLe caprice a déménagé mais nous accueill
 e de nouveau dans ce nouveau lieu. Pour l’instant il n’est possible qu
 e de se mettre en terrasse ( pas d’espace intérieur... mais dans un sen
 s\, c’est plus « safe » par rapport à monsieur Covid) et il est impos
 sible d’avoir un espace “à nous”. La formule sera donc un peu spéc
 iale car nous serons “mélangés” avec le commun des mortels 😁.. et
  qu’il faudra prier pour avoir un temps convenable (!!!s’il pleut c’
 est annulé :(:( !!!). Ludivine sera là afin d’accueillir les “nouvea
 ux” éventuels.\nLes règles Covid sont de vigueur évidemment lors du d
 éplacement entre les tables\, et Max 10 par tables . Nous aurons un espac
 e à nous dès que possible\, on espère en novembre.\nVous pouvez me cont
 acter dans cet événement ou en mp pour plus d’infos\n\nPar email : nam
 ur@polyamour.be
LOCATION:Le K-Price d'ambiance\, 4 rue Saint-Loup\, Namur\, Belgique
X-APPLE-STRUCTURED-LOCATION;VALUE=URI;X-ADDRESS=4 rue Saint-Loup\, Namur\, 
 Belgique;X-APPLE-RADIUS=100;X-TITLE=Le K-Price d'ambiance:geo:0,0
END:VEVENT
BEGIN:VTIMEZONE
TZID:Europe/Brussels
X-LIC-LOCATION:Europe/Brussels
BEGIN:DAYLIGHT
DTSTART:20200329T030000
TZOFFSETFROM:+0100
TZOFFSETTO:+0200
TZNAME:CEST
END:DAYLIGHT
END:VTIMEZONE
END:VCALENDAR