BEGIN:VCALENDAR
VERSION:2.0
PRODID:-//wp-events-plugin.com//7.2.3.1//EN
TZID:Europe/Brussels
X-WR-TIMEZONE:Europe/Brussels
BEGIN:VEVENT
UID:202@polyamour.be
DTSTART;TZID=Europe/Brussels:20201202T193000
DTEND;TZID=Europe/Brussels:20201202T223000
DTSTAMP:20201202T221815Z
URL:https://polyamour.be/events/cafe-poly-rainbow-house-bruxelles-2020-12-
 02/
SUMMARY:Café-poly de Bruxelles (annulé)
DESCRIPTION:Attention : évènement annulé mais remplacé par un café-pol
 y "en ligne" !\nPlus d'infos sur le forum : https://polyamour.be/forums/to
 pic/cafe-poly-en-ligne/\n\n\nLa formule qui semble toujours plaire\, à sa
 voir :\nNous vous proposons de venir avec votre sandwich ou repas\, froid 
 ou chaud (pas de four disponible sur place)\, marmelade et mixture en tout
  genres et/ou pourquoi pas un petit dessert (chocolat\, patisserie\, salad
 e de fruit\, ...)\, à partager : l'auberge espagnole comme on dit.\n\nNou
 s sommes en général entre 15 et 30 personnes à nous retrouver chaque mo
 is.\n\nRendez-vous au bar de la Maison Arc-en-Ciel : vous tomberez sur Pie
 rre et son équipe derrière les pompes\, et nous (tout le reste des joyeu
 x polys) devant.\n\n\n\nLa Maison Arc-en-ciel (Rainbowhouse)\nadresse : 42
  rue du Marché au charbon\, 1000 Bruxelles.\n\nLe café-poly\, c'est tous
  les premiers mercredis du mois à partir de 19h30\, pour les 20 ans à ve
 nir... après on verra... \;-D\n\nFermeture vers 22h30.\n\nBienvenue à to
 us : Polyamoureux confirmés\, presque polys\, poly-curieux\, monogames to
 lérants\, sympathisants...\n\nEnglish-speaking people are welcome too!\n\
 nde Nederlandstaligen zijn ook welkom!
LOCATION:Rainbow House\, 42 rue du Marché au charbon\, Bruxelles\, 1000\, 
 Belgique
X-APPLE-STRUCTURED-LOCATION;VALUE=URI;X-ADDRESS=42 rue du Marché au charbo
 n\, Bruxelles\, 1000\, Belgique;X-APPLE-RADIUS=100;X-TITLE=Rainbow House:g
 eo:0,0
END:VEVENT
BEGIN:VTIMEZONE
TZID:Europe/Brussels
X-LIC-LOCATION:Europe/Brussels
BEGIN:STANDARD
DTSTART:20201025T020000
TZOFFSETFROM:+0200
TZOFFSETTO:+0100
TZNAME:CET
END:STANDARD
END:VTIMEZONE
END:VCALENDAR